BEGIN:VCALENDAR
PRODID:-//eluceo/ical//2.0/EN
VERSION:2.0
CALSCALE:GREGORIAN
BEGIN:VEVENT
UID:fe4e785d412f93d846b89ef5797bb4f0
DTSTAMP:20260423T154448Z
SUMMARY:Besuch District Governor
DESCRIPTION:Referenten/innen: Claudia Hendry\, DG\, Besprechung ab 11:15h f
 ür Vorstand
URL:https://thusis.rotary2000.ch/de/agenda/show/31368
DTSTART;TZID=Europe/Zurich:20130708T120000
DTEND;TZID=Europe/Zurich:20130708T140000
LOCATION:Hotel Weiss Kreuz
CATEGORIES:Rotary
END:VEVENT
BEGIN:VTIMEZONE
TZID:Europe/Zurich
BEGIN:DAYLIGHT
DTSTART:20130708T120000
TZNAME:CEST
TZOFFSETTO:+0200
TZOFFSETFROM:+0200
END:DAYLIGHT
END:VTIMEZONE
END:VCALENDAR
